BEGIN:VCALENDAR
VERSION:2.0
PRODID:-//SD Black Nurses Association - ECPv6.9.0//NONSGML v1.0//EN
CALSCALE:GREGORIAN
METHOD:PUBLISH
X-ORIGINAL-URL:https://sdblacknurses.webdemotesting.online
X-WR-CALDESC:Events for SD Black Nurses Association
REFRESH-INTERVAL;VALUE=DURATION:PT1H
X-Robots-Tag:noindex
X-PUBLISHED-TTL:PT1H
BEGIN:VTIMEZONE
TZID:UTC
BEGIN:STANDARD
TZOFFSETFROM:+0000
TZOFFSETTO:+0000
TZNAME:UTC
DTSTART:20250101T000000
END:STANDARD
END:VTIMEZONE
BEGIN:VEVENT
DTSTART;TZID=UTC:20250119T083000
DTEND;TZID=UTC:20250119T143000
DTSTAMP:20260423T034615
CREATED:20250109T211300Z
LAST-MODIFIED:20250109T211300Z
UID:886-1737275400-1737297000@sdblacknurses.webdemotesting.online
SUMMARY:MLK Parade
DESCRIPTION:MLK Parade
URL:https://sdblacknurses.webdemotesting.online/event/mlk-parade/
END:VEVENT
END:VCALENDAR