BEGIN:VCALENDAR
VERSION:2.0
PRODID:-//SD Black Nurses Association - ECPv6.9.0//NONSGML v1.0//EN
CALSCALE:GREGORIAN
METHOD:PUBLISH
X-WR-CALNAME:SD Black Nurses Association
X-ORIGINAL-URL:https://sdblacknurses.webdemotesting.online
X-WR-CALDESC:Events for SD Black Nurses Association
REFRESH-INTERVAL;VALUE=DURATION:PT1H
X-Robots-Tag:noindex
X-PUBLISHED-TTL:PT1H
BEGIN:VTIMEZONE
TZID:UTC
BEGIN:STANDARD
TZOFFSETFROM:+0000
TZOFFSETTO:+0000
TZNAME:UTC
DTSTART:20250101T000000
END:STANDARD
END:VTIMEZONE
BEGIN:VEVENT
DTSTART;TZID=UTC:20250712T090000
DTEND;TZID=UTC:20250712T100000
DTSTAMP:20260422T213241
CREATED:20250109T213309Z
LAST-MODIFIED:20250109T213309Z
UID:935-1752310800-1752314400@sdblacknurses.webdemotesting.online
SUMMARY:Advisory meeting
DESCRIPTION:Advisory meeting
URL:https://sdblacknurses.webdemotesting.online/event/advisory-meeting/
END:VEVENT
BEGIN:VEVENT
DTSTART;TZID=UTC:20250712T100000
DTEND;TZID=UTC:20250712T120000
DTSTAMP:20260422T213241
CREATED:20250109T213243Z
LAST-MODIFIED:20250109T213243Z
UID:933-1752314400-1752321600@sdblacknurses.webdemotesting.online
SUMMARY:SDBNA general meeting
DESCRIPTION:SDBNA general meeting
URL:https://sdblacknurses.webdemotesting.online/event/sdbna-general-meeting-5/
END:VEVENT
END:VCALENDAR