BEGIN:VCALENDAR
VERSION:2.0
PRODID:-//SD Black Nurses Association - ECPv6.9.0//NONSGML v1.0//EN
CALSCALE:GREGORIAN
METHOD:PUBLISH
X-ORIGINAL-URL:https://sdblacknurses.webdemotesting.online
X-WR-CALDESC:Events for SD Black Nurses Association
REFRESH-INTERVAL;VALUE=DURATION:PT1H
X-Robots-Tag:noindex
X-PUBLISHED-TTL:PT1H
BEGIN:VTIMEZONE
TZID:UTC
BEGIN:STANDARD
TZOFFSETFROM:+0000
TZOFFSETTO:+0000
TZNAME:UTC
DTSTART:20250101T000000
END:STANDARD
END:VTIMEZONE
BEGIN:VEVENT
DTSTART;TZID=UTC:20251108T100000
DTEND;TZID=UTC:20251108T120000
DTSTAMP:20260422T164027
CREATED:20250109T214121Z
LAST-MODIFIED:20250109T214121Z
UID:949-1762596000-1762603200@sdblacknurses.webdemotesting.online
SUMMARY:SDBNA general meeting
DESCRIPTION:SDBNA general meeting
URL:https://sdblacknurses.webdemotesting.online/event/sdbna-general-meeting-9/
END:VEVENT
END:VCALENDAR