BEGIN:VCALENDAR
VERSION:2.0
PRODID:-//SD Black Nurses Association - ECPv6.9.0//NONSGML v1.0//EN
CALSCALE:GREGORIAN
METHOD:PUBLISH
X-ORIGINAL-URL:https://sdblacknurses.webdemotesting.online
X-WR-CALDESC:Events for SD Black Nurses Association
REFRESH-INTERVAL;VALUE=DURATION:PT1H
X-Robots-Tag:noindex
X-PUBLISHED-TTL:PT1H
BEGIN:VTIMEZONE
TZID:UTC
BEGIN:STANDARD
TZOFFSETFROM:+0000
TZOFFSETTO:+0000
TZNAME:UTC
DTSTART:20250101T000000
END:STANDARD
END:VTIMEZONE
BEGIN:VEVENT
DTSTART;TZID=UTC:20250308T090000
DTEND;TZID=UTC:20250308T100000
DTSTAMP:20260423T005123
CREATED:20250109T212831Z
LAST-MODIFIED:20250109T212840Z
UID:920-1741424400-1741428000@sdblacknurses.webdemotesting.online
SUMMARY:Advisory board meeting
DESCRIPTION:Advisory board meeting
URL:https://sdblacknurses.webdemotesting.online/event/advisory-board-meeting/
END:VEVENT
BEGIN:VEVENT
DTSTART;TZID=UTC:20250308T100000
DTEND;TZID=UTC:20250308T120000
DTSTAMP:20260423T005123
CREATED:20250109T212803Z
LAST-MODIFIED:20250109T212803Z
UID:918-1741428000-1741435200@sdblacknurses.webdemotesting.online
SUMMARY:SDBNA general meeting
DESCRIPTION:SDBNA general meeting
URL:https://sdblacknurses.webdemotesting.online/event/sdbna-general-meeting-2/
END:VEVENT
END:VCALENDAR